BEGIN:VCALENDAR
PRODID:NingEventWidget-v1
VERSION:2.0
METHOD:PUBLISH
BEGIN:VEVENT
UID:5021591:Event:874776
DTSTAMP:20260422T083000Z
SUMMARY:Chasing Santa
DESCRIPTION:This is year 10 for ourÂ annualÂ Â \nChasing Santa/Cycling
  SantaÂ \nÂ Christmas Toy DriveÂ Â \nYou can walk , run or bicycle thi
 s event\nYour registration includes a complete Santa Suit, pants, jack
 et, belt, hat and of course a beard\nÂ  There is no better way to kick
  start your Holiday Season than by supportingÂ  Â Christmas UnlimitedÂ
  http://www.christmasunlimited.org/Â \nHelp us fill the hot tubes from
  Hanson HotSprings Spas https://www.hansonspa.com/\nwithÂ unwrapped to
 y for children in our local communityÂ  Â Online Registration is open 
 at:Â https://www.runningguru.com/E1.asp?eID=82450https://www.runninggu
 ru.com/E1.asp?eID=82450\n\nFor more information visit http://pikespeak
 sports.us/events/chasing-santa
DTSTART:20211204T150000Z
DTEND:20211204T210000Z
CATEGORIES:fund, raiser, walk, run, bike
LOCATION:Legacy Loop Plaza AKA Pharis Plaza
WEBSITE:https://www.runningguru.com/E1.asp?eID=82450
URL:https://www.runningguru.com/E1.asp?eID=82450
CONTACT:17193062330
ORGANIZER;CN=Pharis:http://pikespeaksports.us/profile/Pharis645
ATTACH;FMTTYPE="image/jpeg":https://storage.ning.com/topology/rest/1.0
 /file/get/8914766878?profile=original
ATTENDEE;ROLE=REQ-PARTICIPANT;PARTSTAT=ACCEPTED;RSVP=TRUE;CN=Pharis:ht
 tp://pikespeaksports.us/profile/Pharis645
END:VEVENT
END:VCALENDAR
