BEGIN:VCALENDAR
PRODID:NingEventWidget-v1
VERSION:2.0
METHOD:PUBLISH
BEGIN:VEVENT
UID:5021591:Event:886200
DTSTAMP:20260422T100815Z
SUMMARY:Chasing Santa/Cycling Santa Toy Drive
DESCRIPTION:This is year 11 for our annual  \nChasing Santa/Cycling
  Santa \n Christmas Toy Drive\n There is no better way to kick star
 t your       Holiday Season than by supporting   http://www.chri
 stmasunlimited.org/ \n\nFor more information visit http://pikespeaksp
 orts.us/events/chasing-santa-cycling-santa-toy-drive
DTSTART:20221203T160000Z
DTEND:20221203T220000Z
CATEGORIES:toy, drive
LOCATION:Red Leg Brewing Company
WEBSITE:https://www.runningguru.com/E1.asp?eID=100535
URL:https://www.runningguru.com/E1.asp?eID=100535
CONTACT:17193062330
ORGANIZER;CN=Pharis:http://pikespeaksports.us/profile/Pharis645
ATTACH;FMTTYPE="image/jpeg":https://storage.ning.com/topology/rest/1.0
 /file/get/10847066055?profile=original
ATTENDEE;ROLE=REQ-PARTICIPANT;PARTSTAT=ACCEPTED;RSVP=TRUE;CN=Pharis:ht
 tp://pikespeaksports.us/profile/Pharis645
END:VEVENT
END:VCALENDAR
