BEGIN:VCALENDAR
PRODID:NingEventWidget-v1
VERSION:2.0
METHOD:PUBLISH
BEGIN:VEVENT
UID:5021591:Event:841344
DTSTAMP:20260422T143411Z
SUMMARY:Chasing Santa 5k/Cycling Santa 15K
DESCRIPTION:Â  Â Kick Start Your Holiday Season with thisÂ  Â  Â  Â  Â
   Â  Annual Toy Drive Supporting\nÂ  Â  Â  Â  Â  Â  Â  Â  Â Â Christma
 s UnlimitedÂ  Â  Â  Â  Â  Â  Â  Â  Â  Â  Â  Â  Â  Â Â http://www.chris
 tmasunlimited.org/Â \nÂ \nÂ  Â  This holiday event is designed for the
 Â \nÂ  Â  entire family Instead of your race day \"T\" shirt, you will
  receive a complete Santa Suit, Pants, Jacket, Belt, Hat and of course
  a Beard, yours to keep.\n\nFor more information visit http://pikespea
 ksports.us/events/chasing-santa-5k-cycling-santa-15k-2
DTSTART:20191207T160000Z
DTEND:20191207T200000Z
CATEGORIES:holiday, "event/toy", drive
LOCATION:Legacy Loop Plaza
WEBSITE:https://www.runningguru.com/E1.asp?eID=60804
URL:https://www.runningguru.com/E1.asp?eID=60804
CONTACT:7193062330
ORGANIZER;CN=Pharis:http://pikespeaksports.us/profile/Pharis645
ATTACH;FMTTYPE="image/jpeg":https://storage.ning.com/topology/rest/1.0
 /file/get/3161844860?profile=original
ATTENDEE;ROLE=REQ-PARTICIPANT;PARTSTAT=ACCEPTED;RSVP=TRUE;CN=Pharis:ht
 tp://pikespeaksports.us/profile/Pharis645
END:VEVENT
END:VCALENDAR
