BEGIN:VCALENDAR
PRODID:NingEventWidget-v1
VERSION:2.0
METHOD:PUBLISH
BEGIN:VEVENT
UID:5021591:Event:849799
DTSTAMP:20260422T083607Z
SUMMARY:Chasing Santa 5k/Cycling Santa 15 miler
DESCRIPTION:Â \nWe are back !!!!! with the 9th annual Chasing Santa/Cy
 cling Santa Holiday Toy Drive.Â \nÂ Kick Start Your Holiday Season Sup
 portingÂ Christmas UnlimitedÂ \nÂ http://www.christmasunlimited.org/Â 
 \nÂ \nÂ Please bring your unwrapped toys with you onÂ  Race Day mornin
 g and help us fill the hot tubs fromÂ Hanson HotSprings SpasÂ  Â https
 ://www.hansonspa.com/Â \nÂ \n\nThis holiday event is designed for theÂ
  entire family\n\nInstead of your race day \"T\" shirt, you will recei
 ve a complete Santa Suit, Pants, Jacket, Belt, Hat and of course a Bea
 rd, yours to keep. Santa Suits are limited to the first 250 participan
 ts\n\nFor more information visit http://pikespeaksports.us/events/chas
 ing-santa-5k-cycling-santa-15-miler
DTSTART:20201205T160000Z
DTEND:20201205T210000Z
CATEGORIES:toy, drive
LOCATION:Legacy Loop Plaza
WEBSITE:https://www.runningguru.com/E1.asp?eID=78353
URL:https://www.runningguru.com/E1.asp?eID=78353
CONTACT:7193062330
ORGANIZER;CN=Pharis:http://pikespeaksports.us/profile/Pharis645
ATTACH;FMTTYPE="image/jpeg":https://storage.ning.com/topology/rest/1.0
 /file/get/8043419281?profile=original
ATTENDEE;ROLE=REQ-PARTICIPANT;PARTSTAT=ACCEPTED;RSVP=TRUE;CN=Pharis:ht
 tp://pikespeaksports.us/profile/Pharis645
END:VEVENT
END:VCALENDAR
