BEGIN:VCALENDAR
PRODID:NingEventWidget-v1
VERSION:2.0
METHOD:PUBLISH
BEGIN:VEVENT
UID:5021591:Event:8474
DTSTAMP:20260420T025123Z
SUMMARY:CARWASH for the Leukemia and Lymphoma Society
DESCRIPTION:Fundraising Event for Leukemia and Lymphoma Society. Come 
 have your car washed for a donation (tax deductible), eat some BBQ, an
 d feel good!!! Runs Sat from 1-5pm and Sunday from 10am to 5pm. Spread
  the word!!!!\n\nFor more information visit http://pikespeaksports.us/
 events/carwash-for-the-leukemia-and
DTSTART:20100619T190000Z
DTEND:20100620T230000Z
CATEGORIES:fundraiser
LOCATION:COLORADO SPRING'S RUDY's BBQ Location
WEBSITE:http://www.facebook.com/#!/event.php?eid=133011713377390
URL:http://www.facebook.com/#!/event.php?eid=133011713377390
CONTACT:
ORGANIZER:Sarah Brustker
ATTACH;FMTTYPE="image/jpeg":
ATTENDEE;ROLE=REQ-PARTICIPANT;PARTSTAT=ACCEPTED;RSVP=TRUE;CN="Dean Bla
 nchard":http://pikespeaksports.us/profile/DeanBlanchard430
END:VEVENT
END:VCALENDAR
