BEGIN:VCALENDAR
PRODID:NingEventWidget-v1
VERSION:2.0
METHOD:PUBLISH
BEGIN:VEVENT
UID:5021591:Event:1702
DTSTAMP:20260423T165940Z
SUMMARY:Brooks Run Happy Days.
DESCRIPTION:Come into Boulder Running Company/ Colorado Springs, buy a
 ny Brooks running/walking shoe and receive a Brooks \"Run Happy\" shir
 t free, while supplies last. Offer good Wednesday through Saturday Apr
 il 3rd.\n\nFor more information visit http://pikespeaksports.us/events
 /brooks-run-happy-days
DTSTART:20100331T160000Z
DTEND:20100404T000000Z
CATEGORIES:promotional, "days."
LOCATION:Boulder Running Company/ Colorado Springs
WEBSITE:
URL:
CONTACT:
ORGANIZER;CN="Boulder Running Company":http://pikespeaksports.us/profi
 le/BoulderRunningCompany
ATTACH;FMTTYPE="image/jpeg":http://storage.ning.com/topology/rest/1.0/
 file/get/2842528569?profile=original
ATTENDEE;ROLE=REQ-PARTICIPANT;PARTSTAT=ACCEPTED;RSVP=TRUE;CN="Terry Mo
 ntgomery":http://pikespeaksports.us/profile/TerryMontgomery
ATTENDEE;ROLE=REQ-PARTICIPANT;PARTSTAT=ACCEPTED;RSVP=TRUE;CN="Boulder 
 Running Company":http://pikespeaksports.us/profile/BoulderRunningCompa
 ny
END:VEVENT
END:VCALENDAR
