BEGIN:VCALENDAR
PRODID:NingEventWidget-v1
VERSION:2.0
METHOD:PUBLISH
BEGIN:VEVENT
UID:5021591:Event:835438
DTSTAMP:20260423T013402Z
SUMMARY:Breckenridge 100
DESCRIPTION:“You’ve done the rest, now take the test.”\nWelcome 
 to Colorado’s premier off-road Ultra race, the 15th annual Breckenri
 dge 100. Part of the National Ultra Endurance Series.\nIf you’re not
  ready for the Ultra, then race the Marathon distance 100K, the XC 32,
  or enter a two or three-person relay team.\nFeaturing a sprawling cou
 rse nestled between 3 ski resorts, we’ve linked together an amazing 
 network of backcountry trails and roads that will delight and challeng
 e.\nThe unique cloverleaf style loops bring you back through Carter Pa
 rk during the race.\nYou’ll cross the Continental Divide three times
 , climb 12,000 foot passes and forge high mountain streams while retur
 ning to the support and encouragement of staff and friends who are wai
 ting for you in historic downtown Breckenridge.\n\nFor more informatio
 n visit http://pikespeaksports.us/events/breckenridge-100
DTSTART:20190713T060000Z
DTEND:20190714T055900Z
CATEGORIES:mountain, bike, race
LOCATION:Breckenridge, CO
WEBSITE:https://www.warriorscycling.com/races/breckenridge-100/
URL:https://www.warriorscycling.com/races/breckenridge-100/
CONTACT:
ORGANIZER;CN="Warriors Cycling":http://pikespeaksports.us/profile/Warr
 iorsCycling
ATTACH;FMTTYPE="image/jpeg":https://storage.ning.com/topology/rest/1.0
 /file/get/1596982977?profile=original
ATTENDEE;ROLE=REQ-PARTICIPANT;PARTSTAT=ACCEPTED;RSVP=TRUE;CN="Warriors
  Cycling":http://pikespeaksports.us/profile/WarriorsCycling
END:VEVENT
END:VCALENDAR
