BEGIN:VCALENDAR
PRODID:NingEventWidget-v1
VERSION:2.0
METHOD:PUBLISH
BEGIN:VEVENT
UID:5021591:Event:6962
DTSTAMP:20260421T001006Z
SUMMARY:Bolder Boulder
DESCRIPTION:One of the largest races in the United State, the Bolder B
 oulder is slated for Monday. The first wave of runners goes at 7 a.m. 
 Spend the day with 40,000 running friends. You can still register onli
 ne.\nHere is the website with all the info.\n\nFor more information vi
 sit http://pikespeaksports.us/events/bolder-boulder
DTSTART:20100531T130000Z
DTEND:20100531T180000Z
CATEGORIES:10k, run
LOCATION:Boulder, Colorado
WEBSITE:http://www.bolderboulder.com/
URL:http://www.bolderboulder.com/
CONTACT:
ORGANIZER:Bolder Boulder
ATTACH;FMTTYPE="image/jpeg":http://storage.ning.com/topology/rest/1.0/
 file/get/2842534174?profile=original
ATTENDEE;ROLE=REQ-PARTICIPANT;PARTSTAT=ACCEPTED;RSVP=TRUE;CN="Teresa B
 rown":http://pikespeaksports.us/profile/TeresaBrown
ATTENDEE;ROLE=REQ-PARTICIPANT;PARTSTAT=ACCEPTED;RSVP=TRUE;CN="Poppy Sp
 orts":http://pikespeaksports.us/profile/PoppySports
ATTENDEE;ROLE=REQ-PARTICIPANT;PARTSTAT=ACCEPTED;RSVP=TRUE;CN="Tim Berg
 sten":http://pikespeaksports.us/profile/TimBergsten
END:VEVENT
END:VCALENDAR
