BEGIN:VCALENDAR
PRODID:NingEventWidget-v1
VERSION:2.0
METHOD:PUBLISH
BEGIN:VEVENT
UID:5021591:Event:8461
DTSTAMP:20260420T124443Z
SUMMARY:Bike-to-Work Day, Breakfast
DESCRIPTION:Celebrate commuting by riding your bike to one of three br
 eakfast sites. Mayor Rivera will be leading his 7th Annual bike to wor
 k ride from UCCS to the Pioneer's Museum. Join an eclectic group of cy
 clists as they pedal along the Greenway trail and gather additional cy
 clists along the way. The police escort will make you feel like a VIP 
 and you will enjoy a wonderful breakfast hosted by Metro Rides.\n\nFor
  more information visit http://pikespeaksports.us/events/biketowork-da
 y-breakfast
DTSTART:20100609T123000Z
DTEND:20100609T150000Z
CATEGORIES:"bike to work"
LOCATION:Pioneers Museum and 2 other locations
WEBSITE:http://springsbiketoworkday.eventbrite.com/
URL:http://springsbiketoworkday.eventbrite.com/
CONTACT:
ORGANIZER:Metro Rides
ATTACH;FMTTYPE="image/jpeg":http://storage.ning.com/topology/rest/1.0/
 file/get/2842535922?profile=original
ATTENDEE;ROLE=REQ-PARTICIPANT;PARTSTAT=ACCEPTED;RSVP=TRUE;CN="Terry Mo
 ntgomery":http://pikespeaksports.us/profile/TerryMontgomery
ATTENDEE;ROLE=REQ-PARTICIPANT;PARTSTAT=ACCEPTED;RSVP=TRUE;CN="Nicole O
 dell":http://pikespeaksports.us/profile/NicoleDrummer
ATTENDEE;ROLE=REQ-PARTICIPANT;PARTSTAT=ACCEPTED;RSVP=TRUE;CN="Jon Seve
 rson":http://pikespeaksports.us/profile/JonSeverson
ATTENDEE;ROLE=REQ-PARTICIPANT;PARTSTAT=ACCEPTED;RSVP=TRUE;CN="Brian Mc
 Carrie":http://pikespeaksports.us/profile/virtualbrian
END:VEVENT
END:VCALENDAR
