BEGIN:VCALENDAR
PRODID:NingEventWidget-v1
VERSION:2.0
METHOD:PUBLISH
BEGIN:VEVENT
UID:5021591:Event:25258
DTSTAMP:20260423T100248Z
SUMMARY:Bike with Pike Century
DESCRIPTION:The 2010 edition of Bike with Pike is capped at 300 riders
 ! Come spend this Labor Day Weekend in the Wet Mountain Valley for one
  of the best bike rides in the State of Colorado!\n\n\n\nInspired by t
 he mountains and valleys famous explorer Zebulon Pike admired and expl
 ored, Bike with Pike Westcliffe Adventure is a series of annual recrea
 tional events for the whole family. Our premier event, The Bike with P
 ike Century, is a fall charity bicycle ride that offers several routes
  include a 100-mile fully supported century ride that travels from the
  gorgeous Wet Mountain Valley in Westcliffe through the rugged Wet Mou
 ntains to Colorado City and back. Other rides offered include a metric
  century (69 miles) and 24 mile out-and-back rides that follow along t
 he same route as the Century and a fun filled guided family ride that 
 will encircles the old mining district north of the towns of Westcliff
 e and Silver Cliff and includes stops for lemonade and mining interpre
 tation. Funds raised from this event support the Frontier Pathways Sce
 nic & Historic Byway and All Aboard Westcliffe, local non-profit organ
 izations that support our regions scenic and historic character.\n\nFo
 r more information visit http://pikespeaksports.us/events/bike-with-pi
 ke-century
DTSTART:20100904T130000Z
DTEND:20100904T230000Z
CATEGORIES:fundraiser
LOCATION:Westcliffe, CO
WEBSITE:http://www.bikewithpike.org
URL:http://www.bikewithpike.org
CONTACT:719-371-0544
ORGANIZER;CN="Kevin League":http://pikespeaksports.us/profile/KevinLea
 gue
ATTACH;FMTTYPE="image/jpeg":http://storage.ning.com/topology/rest/1.0/
 file/get/2842539282?profile=original
ATTENDEE;ROLE=REQ-PARTICIPANT;PARTSTAT=ACCEPTED;RSVP=TRUE;CN="Kevin Le
 ague":http://pikespeaksports.us/profile/KevinLeague
END:VEVENT
END:VCALENDAR
