BEGIN:VCALENDAR
PRODID:NingEventWidget-v1
VERSION:2.0
METHOD:PUBLISH
BEGIN:VEVENT
UID:5021591:Event:865613
DTSTAMP:20260422T100441Z
SUMMARY:BIGDOGBRAG The Colorado Mud Run 2021
DESCRIPTION:BIGDOGBRAG The Colorado Mud Run transforms the natural lan
 dscape of Colorado’s rugged terrain into 25 muddy obstacles on our f
 amily-friendly 5k and 2k courses. Splash down the 70-foot MUD SLIDE, c
 limb over cargo net canyons, slog your way through real mud pits (not 
 just dirty water), rope climb on Colorado boulders, balance on swingin
 g bridges, experience the Tarzan swing and sprint across the floating 
 platforms. You can race your friends and family to the finish line or 
 soak up each challenge at your own pace. Get dirty with COLORADO’S m
 ost affordable five star rated mud obstacle run!\n\nFor more informati
 on visit http://pikespeaksports.us/events/bigdogbrag-the-colorado-mud-
 run-2021
DTSTART:20210731T143000Z
DTEND:20210731T220000Z
CATEGORIES:mud, run
LOCATION:Ram Off Road Park
WEBSITE:
URL:
CONTACT:
ORGANIZER;CN="Ron Weide":http://pikespeaksports.us/profile/RonWeide
ATTACH;FMTTYPE="image/jpeg":https://storage.ning.com/topology/rest/1.0
 /file/get/8585728286?profile=original
ATTENDEE;ROLE=REQ-PARTICIPANT;PARTSTAT=ACCEPTED;RSVP=TRUE;CN="Ron Weid
 e":http://pikespeaksports.us/profile/RonWeide
END:VEVENT
END:VCALENDAR
