BEGIN:VCALENDAR
PRODID:NingEventWidget-v1
VERSION:2.0
METHOD:PUBLISH
BEGIN:VEVENT
UID:5021591:Event:844831
DTSTAMP:20260422T100502Z
SUMMARY:BIGDOGBRAG The Colorado Mud Run 2020
DESCRIPTION:BIGDOGBRAG The Colorado Mud Run gives you more unique ways
  than any other obstacle course to experience the thrill of mud!!! You
  can splash, crash, run, crawl, laugh, slide, walk or do your own styl
 e of doggie dash to the finish by choosing either the 5k course with a
 ll 25 obstacles or the 2k (more fun than run course) with 12 of our fu
 nnest obstacles and muddiest mud pits for the whole family ages 5 and 
 up.\n\nFor more information visit http://pikespeaksports.us/events/big
 dogbrag-the-colorado-mud-run-2020
DTSTART:20200606T143000Z
DTEND:20200606T190000Z
CATEGORIES:fun, mud, run
LOCATION:RAM Off-Road Park
WEBSITE:http://www.bigdogbrag.com
URL:http://www.bigdogbrag.com
CONTACT:7192106820
ORGANIZER;CN="Ron Weide":http://pikespeaksports.us/profile/RonWeide
ATTACH;FMTTYPE="image/jpeg":https://storage.ning.com/topology/rest/1.0
 /file/get/3710233954?profile=original
ATTENDEE;ROLE=REQ-PARTICIPANT;PARTSTAT=ACCEPTED;RSVP=TRUE;CN="Ron Weid
 e":http://pikespeaksports.us/profile/RonWeide
END:VEVENT
END:VCALENDAR
