BEGIN:VCALENDAR
PRODID:NingEventWidget-v1
VERSION:2.0
METHOD:PUBLISH
BEGIN:VEVENT
UID:5021591:Event:2748
DTSTAMP:20260422T055216Z
SUMMARY:Autism Awareness Month 5K Walk/Run
DESCRIPTION:Alpine Autism Center will host the Third Annual Autism Awa
 reness Month 5K Walk/Run on Saturday, April 17, 2010.\nRegistration be
 gins at 9 a.m. with the event at 10 a.m. at America the Beautiful Park
 , Colorado Springs, Colorado\nSponsorships and Vendor Tables Available
 .\nIndividual Walkers/Runners only $10.\nFor additional information ca
 ll Michelle Linn, 719-955-3767, or e-mail: linn-jandm@msn.com or alpin
 eautismcenter@stfrancis.org\n\nFor more information visit http://pikes
 peaksports.us/events/autism-awareness-month-5k
DTSTART:20100417T160000Z
DTEND:20100417T180000Z
CATEGORIES:5k, "run/walk"
LOCATION:America The Beautiful Park, 126 S. Cimino, Colorado Springs
WEBSITE:http://www.firstgiving.com/aaccs
URL:http://www.firstgiving.com/aaccs
CONTACT:719-955-3767
ORGANIZER;CN="Tim Bergsten":http://pikespeaksports.us/profile/TimBergs
 ten
ATTACH;FMTTYPE="image/jpeg":
ATTENDEE;ROLE=REQ-PARTICIPANT;PARTSTAT=ACCEPTED;RSVP=TRUE;CN="Tim Berg
 sten":http://pikespeaksports.us/profile/TimBergsten
END:VEVENT
END:VCALENDAR
