BEGIN:VCALENDAR
PRODID:NingEventWidget-v1
VERSION:2.0
METHOD:PUBLISH
BEGIN:VEVENT
UID:5021591:Event:24110
DTSTAMP:20260423T112716Z
SUMMARY:Assault on the Peak and
DESCRIPTION:Mark Aug. 29 on your calendars. Summit Cycling Productions
 , in cooperation with the City of Colorado Springs, The City of Manito
 u Springs, the U.S. Forest Service and The Pikes Peak Highway, are pro
 ud to introduce the inaugural version of “Assault on the Peak”, a 
 cycling event to the top of Pikes Peak. This event will be a timed, no
 n-competitive event for the first 1500 riders wishing to challenge the
  most famous mountain in America. It begins at 7 a.m. at Memorial Park
  in Manitou Springs. There is still time to register online.\nAnd, beg
 inning at 10 a.m. at Memorial Park, The Third Annual Peak Region Cycli
 st Bicycle Festival will run in conjunction with Assault on the Peak. 
 Free admission. Come down and enjoy the day in the sun!\nBike shops, b
 ike frame-builders, bike manufacturers from across Colorado, bicycle a
 dvocacy groups, trail building groups, bicycle non-profits, anything a
 nd everything to do with cycling will be here. Enjoy good food, good c
 ompany, great atmosphere, top cycling companies, and an EPIC ride to t
 he top of Pikes Peak!\n\nFor more information visit http://pikespeaksp
 orts.us/events/assault-on-the-peak-and
DTSTART:20100829T060000Z
DTEND:20100830T055900Z
CATEGORIES:bike, ride
LOCATION:Memorial Park, Manitou Springs, Pikes Peak
WEBSITE:http://www.ridepikespeak.com/Pikes_Peak/Introducing.html
URL:http://www.ridepikespeak.com/Pikes_Peak/Introducing.html
CONTACT:
ORGANIZER;CN="Tim Bergsten":http://pikespeaksports.us/profile/TimBergs
 ten
ATTACH;FMTTYPE="image/jpeg":http://storage.ning.com/topology/rest/1.0/
 file/get/2842538543?profile=original
ATTENDEE;ROLE=REQ-PARTICIPANT;PARTSTAT=ACCEPTED;RSVP=TRUE;CN="Tim Berg
 sten":http://pikespeaksports.us/profile/TimBergsten
ATTENDEE;ROLE=REQ-PARTICIPANT;PARTSTAT=TENTATIVE;RSVP=TRUE;CN="Scott F
  Swandal":http://pikespeaksports.us/profile/ScottFSwandal
END:VEVENT
END:VCALENDAR
