BEGIN:VCALENDAR
PRODID:NingEventWidget-v1
VERSION:2.0
METHOD:PUBLISH
BEGIN:VEVENT
UID:5021591:Event:1238
DTSTAMP:20260422T042559Z
SUMMARY:Ascent Cycling Series-Palmer Park Mtb Race
DESCRIPTION:Carmichael Training Systems Summer of Cycling race #1 at P
 almer Park.\n\nMountain bicycle race using 3.2+ miles of trails\n\nFor
  more information visit http://pikespeaksports.us/events/ascent-cyclin
 g-seriespalmer
DTSTART:20100522T060000Z
DTEND:20100523T055900Z
CATEGORIES:mountain, bicycle, race
LOCATION:Palmer Park: Registration/Start Line at Academy Blvd and Maiz
 eland
WEBSITE:http://sandcreeksports.com
URL:http://sandcreeksports.com
CONTACT:719-651-1677
ORGANIZER;CN="Andy Bohlmann":http://pikespeaksports.us/profile/AndyBoh
 lmann
ATTACH;FMTTYPE="image/jpeg":http://storage.ning.com/topology/rest/1.0/
 file/get/2842524078?profile=original
ATTENDEE;ROLE=REQ-PARTICIPANT;PARTSTAT=ACCEPTED;RSVP=TRUE;CN="Brian Mc
 Carrie":http://pikespeaksports.us/profile/virtualbrian
ATTENDEE;ROLE=REQ-PARTICIPANT;PARTSTAT=ACCEPTED;RSVP=TRUE;CN="Andy Boh
 lmann":http://pikespeaksports.us/profile/AndyBohlmann
END:VEVENT
END:VCALENDAR
