BEGIN:VCALENDAR
PRODID:NingEventWidget-v1
VERSION:2.0
METHOD:PUBLISH
BEGIN:VEVENT
UID:5021591:Event:4609
DTSTAMP:20260420T210212Z
SUMMARY:Ascent Cycling Series
DESCRIPTION:Ascent Cycling Series, part of the Carmichael Training Sys
 tems Summer of Cycling.\n\nFor more information visit http://pikespeak
 sports.us/events/ascent-cycling-series
DTSTART:20100602T220000Z
DTEND:20100603T010000Z
CATEGORIES:mountain, bicycle, race
LOCATION:Bear Creek Terrace
WEBSITE:http://www.sandcreeksports.com
URL:http://www.sandcreeksports.com
CONTACT:719-651-1677
ORGANIZER;CN="Andy Bohlmann":http://pikespeaksports.us/profile/AndyBoh
 lmann
ATTACH;FMTTYPE="image/jpeg":http://storage.ning.com/topology/rest/1.0/
 file/get/2842534218?profile=original
ATTENDEE;ROLE=REQ-PARTICIPANT;PARTSTAT=ACCEPTED;RSVP=TRUE;CN="Andy Boh
 lmann":http://pikespeaksports.us/profile/AndyBohlmann
END:VEVENT
END:VCALENDAR
