BEGIN:VCALENDAR
PRODID:NingEventWidget-v1
VERSION:2.0
METHOD:PUBLISH
BEGIN:VEVENT
UID:5021591:Event:4612
DTSTAMP:20260420T105947Z
SUMMARY:Ascent Cycling Series
DESCRIPTION:The Ascent Cycling Series is part of the Carmichael Traini
 ng Systems Summer of Cycling.\n\nFor more information visit http://pik
 espeaksports.us/events/ascent-cycling-series-1
DTSTART:20100609T220000Z
DTEND:20100610T010000Z
CATEGORIES:mountain, bicycle, race
LOCATION:Bear Creek Terrace
WEBSITE:http://www.sandcreeksports.com
URL:http://www.sandcreeksports.com
CONTACT:719-561-1677
ORGANIZER;CN="Andy Bohlmann":http://pikespeaksports.us/profile/AndyBoh
 lmann
ATTACH;FMTTYPE="image/jpeg":http://storage.ning.com/topology/rest/1.0/
 file/get/2842534218?profile=original
ATTENDEE;ROLE=REQ-PARTICIPANT;PARTSTAT=ACCEPTED;RSVP=TRUE;CN="Andy Boh
 lmann":http://pikespeaksports.us/profile/AndyBohlmann
END:VEVENT
END:VCALENDAR
