BEGIN:VCALENDAR
PRODID:NingEventWidget-v1
VERSION:2.0
METHOD:PUBLISH
BEGIN:VEVENT
UID:5021591:Event:335
DTSTAMP:20260423T200405Z
SUMMARY:Annual Running for Rachael 5k
DESCRIPTION:\nThe Annual Running for Rachael 5K will be on March 28, 2
 010 at the U.S. Air Force Academy Falcon Stadium. This is a fun but ch
 allenging course. Same day registration and check in will start at 8 a
 .m. In the stadium’s south parking lot with the run/walk starting at
  9 a.m. Awards for top runners and drawing for prizes after the run. T
 his event is on a military installation please do not bring backpacks,
  hydration packs are allowed.\nAll proceeds benefit pediatric brain tu
 mor research. Online sign up through www.active.com/5k-race/usafa-co/a
 nnual-running-for-rachael-5k-2010 or pick up a registration at Colorad
 o Running Company, Runners Roost or Boulder Running Company in Colorad
 o Springs.\n\nFor more information visit http://pikespeaksports.us/eve
 nts/annual-running-for-rachael-5k
DTSTART:20100328T140000Z
DTEND:20100328T180000Z
CATEGORIES:5k, run
LOCATION:Air Force Academy, Falcon Stadium south parking lot
WEBSITE:http://www.rachaelsribbonsofhope.org/
URL:http://www.rachaelsribbonsofhope.org/
CONTACT:
ORGANIZER;CN="Pikes Peak Sports":http://pikespeaksports.us/profile/Pik
 esPeakSports
ATTACH;FMTTYPE="image/jpeg":
ATTENDEE;ROLE=REQ-PARTICIPANT;PARTSTAT=ACCEPTED;RSVP=TRUE;CN="Pikes Pe
 ak Sports":http://pikespeaksports.us/profile/PikesPeakSports
END:VEVENT
END:VCALENDAR
