BEGIN:VCALENDAR
PRODID:NingEventWidget-v1
VERSION:2.0
METHOD:PUBLISH
BEGIN:VEVENT
UID:5021591:Event:20138
DTSTAMP:20260423T065732Z
SUMMARY:American Discovery Trail Marathon
DESCRIPTION:The American Discovery Trail Marathon is set for Monday, S
 ept. 6 (Labor Day). The Marathon begins at 6:30 a.m. in Palmer Lake. T
 he Half Marathon begins at America the Beautiful Park. Both races end 
 at America the Beautiful Park.\nNearly 1,100 runners competed in the A
 DT Marathon or half marathon last year. About 125 of those participate
 d in the four-person marathon relay. Runners can register for the race
 s at Active.com.\nThe ADT races are ran on the fast and flat Santa Fe 
 Trail. The marathon course is a Boston qualifier and mostly downhill, 
 losing about 1,300 feet of elevation. In 2009, Justin Ricks’ winning
  time of 2 hours, 32 minutes, 30 seconds, was the fastest marathon in 
 the world on that weekend.\nMarathon relay teams start at 6:45 a.m. in
  Palmer Lake. Relay team members will run legs of 6.75, 8.5, 6.75, and
  4.2 miles.\nThe Marathon and Half Marathon have been designated as RR
 CA State Championship Races for 2010. There will also be cash prizes o
 f $500, $250 and $100 for the top three male and female finishers in t
 he marathon.\nFor more information, see the American Discovery Trail w
 ebsite.\nIf you would like to volunteer, please e-mail Micky Simpson\n
 at mickysim@yahoo.com.\n\nFor more information visit http://pikespeaks
 ports.us/events/american-discovery-trail
DTSTART:20100906T123000Z
DTEND:20100906T180000Z
CATEGORIES:marathon, and, half
LOCATION:Santa Fe Trail, Monument Valley Creek Trail
WEBSITE:http://www.adtmarathon.com/index.htm
URL:http://www.adtmarathon.com/index.htm
CONTACT:
ORGANIZER;CN="Tim Bergsten":http://pikespeaksports.us/profile/TimBergs
 ten
ATTACH;FMTTYPE="image/jpeg":http://storage.ning.com/topology/rest/1.0/
 file/get/2653397815?profile=original
ATTENDEE;ROLE=REQ-PARTICIPANT;PARTSTAT=ACCEPTED;RSVP=TRUE;CN="james co
 mo":http://pikespeaksports.us/profile/jamescomo
ATTENDEE;ROLE=REQ-PARTICIPANT;PARTSTAT=ACCEPTED;RSVP=TRUE;CN="Tim Berg
 sten":http://pikespeaksports.us/profile/TimBergsten
END:VEVENT
END:VCALENDAR
