BEGIN:VCALENDAR
PRODID:NingEventWidget-v1
VERSION:2.0
METHOD:PUBLISH
BEGIN:VEVENT
UID:5021591:Event:2684
DTSTAMP:20260422T014935Z
SUMMARY:Air Force Academy Road Race
DESCRIPTION:Registration: Opens at 6:00 am, closes 30 min\nprior to ra
 ce start. Most fields fill early on race\nday. $10 \"day of\" late fee
  applies (noncollegiate\nonly); pre-register at:\nhttps://www.sportsba
 seonline.com/events/index.xhtml?categoryId=20831\nField Limit of 125 r
 iders; Cat 5 and Women’s Open\nlimit 75.\nHeld rain or shine. Sorry,
  no refunds.\n\nFor more information visit http://pikespeaksports.us/e
 vents/air-force-academy-road-race
DTSTART:20100418T133000Z
DTEND:20100418T200000Z
CATEGORIES:"road race"
LOCATION:Air Force Academy, Colorado Springs
WEBSITE:http://www.usacycling.org/events/getflyer.php?permit=2010-297
URL:http://www.usacycling.org/events/getflyer.php?permit=2010-297
CONTACT:
ORGANIZER:
ATTACH;FMTTYPE="image/jpeg":http://storage.ning.com/topology/rest/1.0/
 file/get/2842524102?profile=original
ATTENDEE;ROLE=REQ-PARTICIPANT;PARTSTAT=ACCEPTED;RSVP=TRUE;CN="Brian Mc
 Carrie":http://pikespeaksports.us/profile/virtualbrian
END:VEVENT
END:VCALENDAR
