BEGIN:VCALENDAR
PRODID:NingEventWidget-v1
VERSION:2.0
METHOD:PUBLISH
BEGIN:VEVENT
UID:5021591:Event:2674
DTSTAMP:20260422T085056Z
SUMMARY:Air Force Academy Individual and Team Time Trial
DESCRIPTION:1 minute gaps for all riders\nCollegiate registration and 
 USCF number pickup\nopen until 7:30AM race day\nNon-collegiate riders 
 MUST preregister by April 15\n@ noon\nLimited slots availabble for USA
 C riders\nAwards available at criterium\n\nLINK TO RACE FLYER\n\nFor m
 ore information visit http://pikespeaksports.us/events/air-force-acade
 my-individual
DTSTART:20100417T140000Z
DTEND:20100417T170000Z
CATEGORIES:time, trial, road, race
LOCATION:Air Force Academy, Colorado Springs
WEBSITE:https://docs.google.com/fileview?id=0B2LKDwqbSVcsZDVjMTcyMzQtM
 TM4NS00YTlmLWE2MzYtNmE3NzFhMDY5ZTNi&hl=en
URL:https://docs.google.com/fileview?id=0B2LKDwqbSVcsZDVjMTcyMzQtMTM4N
 S00YTlmLWE2MzYtNmE3NzFhMDY5ZTNi&hl=en
CONTACT:
ORGANIZER:
ATTACH;FMTTYPE="image/jpeg":http://storage.ning.com/topology/rest/1.0/
 file/get/2842524102?profile=original
ATTENDEE;ROLE=REQ-PARTICIPANT;PARTSTAT=ACCEPTED;RSVP=TRUE;CN="Brian Mc
 Carrie":http://pikespeaksports.us/profile/virtualbrian
END:VEVENT
END:VCALENDAR
