BEGIN:VCALENDAR
PRODID:NingEventWidget-v1
VERSION:2.0
METHOD:PUBLISH
BEGIN:VEVENT
UID:5021591:Event:2677
DTSTAMP:20260422T030242Z
SUMMARY:Air Force Academy Falcon Stadium Criterium
DESCRIPTION:Collegiate, Open and Category races.\nField limit 100 ride
 rs\n$10 late fee for \"day of\" registration (collegiate\nexempt)\nUSA
 C 1-day licenses available on-site\n$15 racing fee for collegiate ride
 rs racing 2nd\ncriterium\n\nLINK TO RACE FLYER\n\nFor more information
  visit http://pikespeaksports.us/events/air-force-academy-falcon
DTSTART:20100417T170000Z
DTEND:20100418T010000Z
CATEGORIES:"road crit race"
LOCATION:Air Force Academy, Colorado Springs
WEBSITE:https://docs.google.com/fileview?id=0B2LKDwqbSVcsZDVjMTcyMzQtM
 TM4NS00YTlmLWE2MzYtNmE3NzFhMDY5ZTNi&hl=en
URL:https://docs.google.com/fileview?id=0B2LKDwqbSVcsZDVjMTcyMzQtMTM4N
 S00YTlmLWE2MzYtNmE3NzFhMDY5ZTNi&hl=en
CONTACT:
ORGANIZER:
ATTACH;FMTTYPE="image/jpeg":http://storage.ning.com/topology/rest/1.0/
 file/get/2842524102?profile=original
ATTENDEE;ROLE=REQ-PARTICIPANT;PARTSTAT=ACCEPTED;RSVP=TRUE;CN="Brian Mc
 Carrie":http://pikespeaksports.us/profile/virtualbrian
END:VEVENT
END:VCALENDAR
