BEGIN:VCALENDAR
PRODID:NingEventWidget-v1
VERSION:2.0
METHOD:PUBLISH
BEGIN:VEVENT
UID:5021591:Event:4055
DTSTAMP:20260421T150808Z
SUMMARY:Adopt-a-Village International Humanitarian Run
DESCRIPTION:A 5k and 10k running event to help raise funds for Adopt-A
 -Village International.\nTime: 8:00 am– Kids’ Fun Run\n8:30 am—1
 0K\n8:45 am—5K\nEntry Fee: Fees are tax-deductable\n$20 pre-registra
 tion\n$25 race day registration\nLocation: The great rolling trails at
 \nPalmer Park\nAwards: Top three males and top\nthree females in both 
 races\nCheck-in: Registration tables located at the Meadows pavilion n
 ear the Maizeland rd. gate 1/8 mile from the Academy and Maizeland int
 ersection...\nHydration: Water will be available at\nthe start/finish 
 line and at approximately the half- way point for the 10K.\n*\nAdopt-a
 -Village International is a non-profit , non– sectarian, humanitaria
 n organization based in Colo-rado Springs which hopes to provide a han
 d up, not a hand out to im-poverished villages, spe-cifically in Ecuad
 or and Peru. AaVI has been working in these South American villages si
 nce 2003 and has set up medical clinics to treat thousands of people, 
 distribute wheelchairs to immobile people, and build wells for potable
  water in remote villages. June 8th through the 21st a team of eightee
 n Do-herty High School students, chaperones, and medi-cal providers wi
 ll return to Peru to volunteer in another medical excursion. The stude
 nts will help run clinics teaching basic hygiene care and wellness to 
 the indigenous people around the Amazon River. To help with this effor
 t, please feel free to bring a donation that will be taken to Peru for
  the medical clinics. Donations can be toothbrushes, tooth paste, band
  aids, vitamins (children’s, pre-natal, or regular), soap, hand sani
 tizer and general first-aid items.\nPlease visit: www.adoptavillageint
 ernational.org\n\nFor more information visit http://pikespeaksports.us
 /events/adoptavillage-international
DTSTART:20100508T140000Z
DTEND:20100508T170000Z
CATEGORIES:"5k/10k", run
LOCATION:Palmer Park (Maizeland and Academy)
WEBSITE:http://www.adoptavillageinternational.org
URL:http://www.adoptavillageinternational.org
CONTACT:
ORGANIZER;CN="Pikes Peak Sports":http://pikespeaksports.us/profile/Pik
 esPeakSports
ATTACH;FMTTYPE="image/jpeg":http://storage.ning.com/topology/rest/1.0/
 file/get/2842533530?profile=original
ATTENDEE;ROLE=REQ-PARTICIPANT;PARTSTAT=ACCEPTED;RSVP=TRUE;CN="Pikes Pe
 ak Sports":http://pikespeaksports.us/profile/PikesPeakSports
END:VEVENT
END:VCALENDAR
