BEGIN:VCALENDAR
PRODID:NingEventWidget-v1
VERSION:2.0
METHOD:PUBLISH
BEGIN:VEVENT
UID:5021591:Event:846498
DTSTAMP:20260422T114856Z
SUMMARY:7-Eleven Race
DESCRIPTION:What better way to celebrate 7-Eleven Day than to run 7.11
 k with a bunch of people ... remotely (safely). This LIVE Virtual Race
  has people running in many states at the same time with live motivati
 on, music, and coaching the whole time. Starts at 7:11 am Mountain Tim
 e.\r\n\n\nFor more information visit http://pikespeaksports.us/events/
 7-eleven-race
DTSTART:20200711T130000Z
DTEND:20200711T143000Z
CATEGORIES:"7-eleven's birthday celebration"
LOCATION:LIVE Virtual Remote
WEBSITE:http://www.runningguru.com/E/7-ElevenRace
URL:http://www.runningguru.com/E/7-ElevenRace
CONTACT:719-363-3306
ORGANIZER:Bigwig Races
ATTACH;FMTTYPE="image/jpeg":https://storage.ning.com/topology/rest/1.0
 /file/get/6774246870?profile=original
ATTENDEE;ROLE=REQ-PARTICIPANT;PARTSTAT=ACCEPTED;RSVP=TRUE;CN="Curtis C
 laar":http://pikespeaksports.us/profile/CurtisClaar
END:VEVENT
END:VCALENDAR
