BEGIN:VCALENDAR
PRODID:NingEventWidget-v1
VERSION:2.0
METHOD:PUBLISH
BEGIN:VEVENT
UID:5021591:Event:841339
DTSTAMP:20260422T100337Z
SUMMARY:5K Survivors Run &amp; Walk
DESCRIPTION:TESSA is excited to host our annual 5K Survivorâ€™s Run on
  October 5, 2019 in America the Beautiful Park. This will be a space f
 or survivors of relationship and sexual violence to run â€“ or walk! â
 €“ together in solidarity, alongside their family, friends, and a comm
 unity of supporters. Please consider joining us solo or with a team to
  show vocal and visible support for survivors of relationship violence
  in the Pikes Peak Region.\n\nFor more information visit http://pikesp
 eaksports.us/events/5k-survivors-run-amp-walk
DTSTART:20191005T150000Z
DTEND:20191005T190000Z
CATEGORIES:5k, fund, raiser
LOCATION:America The Beautiful Park 126 Cimino CSC 80903
WEBSITE:https://www.tessacs.org/survivorsrun/
URL:https://www.tessacs.org/survivorsrun/
CONTACT:7193062330
ORGANIZER;CN=Pharis:http://pikespeaksports.us/profile/Pharis645
ATTACH;FMTTYPE="image/jpeg":https://storage.ning.com/topology/rest/1.0
 /file/get/2842588365?profile=original
ATTENDEE;ROLE=REQ-PARTICIPANT;PARTSTAT=ACCEPTED;RSVP=TRUE;CN=Pharis:ht
 tp://pikespeaksports.us/profile/Pharis645
END:VEVENT
END:VCALENDAR
