BEGIN:VCALENDAR
PRODID:NingEventWidget-v1
VERSION:2.0
METHOD:PUBLISH
BEGIN:VEVENT
UID:5021591:Event:264
DTSTAMP:20260424T035314Z
SUMMARY:5K on St. Patrick's Day
DESCRIPTION:This is the 27th running of one of Colorado Springs oldest
  races and fits in with the second oldest parade in our community. The
  5K on St. Patrick's Day kicks off the start of the running season for
  runners in the Springs.\n\nFor more information visit http://pikespea
 ksports.us/events/5k-on-st-patricks-day
DTSTART:20100313T170000Z
DTEND:20100313T190000Z
CATEGORIES:running, race
LOCATION:Acacia Park in Downtown Colorado Springs
WEBSITE:http://www.csgrandprix.com/stpat.html
URL:http://www.csgrandprix.com/stpat.html
CONTACT:
ORGANIZER:
ATTACH;FMTTYPE="image/jpeg":
ATTENDEE;ROLE=REQ-PARTICIPANT;PARTSTAT=ACCEPTED;RSVP=TRUE;CN="Pikes Pe
 ak Sports":http://pikespeaksports.us/profile/PikesPeakSports
ATTENDEE;ROLE=REQ-PARTICIPANT;PARTSTAT=ACCEPTED;RSVP=TRUE;CN="Jean Exc
 ell":http://pikespeaksports.us/profile/JeanExcell
ATTENDEE;ROLE=REQ-PARTICIPANT;PARTSTAT=ACCEPTED;RSVP=TRUE;CN="Brian Mc
 Carrie":http://pikespeaksports.us/profile/virtualbrian
ATTENDEE;ROLE=REQ-PARTICIPANT;PARTSTAT=TENTATIVE;RSVP=TRUE;CN="Katie B
 enzel":http://pikespeaksports.us/profile/KatieSchwing
END:VEVENT
END:VCALENDAR
