BEGIN:VCALENDAR
PRODID:NingEventWidget-v1
VERSION:2.0
METHOD:PUBLISH
BEGIN:VEVENT
UID:5021591:Event:39708
DTSTAMP:20260424T202808Z
SUMMARY:4th Annual Peace Officers  Valor Run
DESCRIPTION:This is a 5K fun run and 3K walk to help raise money for t
 he Pikes Peak Region Peace Officers Memorial. Same-day registration wi
 ll open at 8 a.m. Entry is $25. Some T-shirts will be available.\n\nFo
 r more information visit http://pikespeaksports.us/events/4th-annual-p
 eace-officers
DTSTART:20101016T150000Z
DTEND:20101016T180000Z
CATEGORIES:5k, run, 3k, walk
LOCATION:America the Beautiful Park
WEBSITE:http://www.peaceofficermemorial.com/News.htm
URL:http://www.peaceofficermemorial.com/News.htm
CONTACT:
ORGANIZER;CN="Tim Bergsten":http://pikespeaksports.us/profile/TimBergs
 ten
ATTACH;FMTTYPE="image/jpeg":http://storage.ning.com/topology/rest/1.0/
 file/get/2842540414?profile=original
ATTENDEE;ROLE=REQ-PARTICIPANT;PARTSTAT=ACCEPTED;RSVP=TRUE;CN="Tim Berg
 sten":http://pikespeaksports.us/profile/TimBergsten
END:VEVENT
END:VCALENDAR
