BEGIN:VCALENDAR
PRODID:NingEventWidget-v1
VERSION:2.0
METHOD:PUBLISH
BEGIN:VEVENT
UID:5021591:Event:387
DTSTAMP:20260424T102135Z
SUMMARY:2nd Annual Peak Region Cyclist Bicycle Show
DESCRIPTION:Come see what the the cycling community has to offer in th
 e Peak Region at our 2nd Annual Peak Region Cyclist Bicycle Show!\n\nF
 or more information visit http://pikespeaksports.us/events/2nd-annual-
 peak-region-cyclist
DTSTART:20100306T160000Z
DTEND:20100306T220000Z
CATEGORIES:cycling, show
LOCATION:Norris-Penrose Center
WEBSITE:http://www.facebook.com/?ref=home#!/event.php?eid=128536741215
URL:http://www.facebook.com/?ref=home#!/event.php?eid=128536741215
CONTACT:
ORGANIZER:
ATTACH;FMTTYPE="image/jpeg":http://storage.ning.com/topology/rest/1.0/
 file/get/2842525104?profile=original
ATTENDEE;ROLE=REQ-PARTICIPANT;PARTSTAT=ACCEPTED;RSVP=TRUE;CN="Kelly Fr
 aser":http://pikespeaksports.us/profile/KellyFraser
ATTENDEE;ROLE=REQ-PARTICIPANT;PARTSTAT=ACCEPTED;RSVP=TRUE;CN="Brian Mc
 Carrie":http://pikespeaksports.us/profile/virtualbrian
END:VEVENT
END:VCALENDAR
