BEGIN:VCALENDAR
PRODID:NingEventWidget-v1
VERSION:2.0
METHOD:PUBLISH
BEGIN:VEVENT
UID:5021591:Event:30920
DTSTAMP:20260423T215308Z
SUMMARY:24 hours of Colorado Springs Mountain Bike Race
DESCRIPTION:Located on the north end of scenic Colorado Springs, the U
 nited States Air Force Academy is one of the top tourist locations in 
 all of Colorado. Hiding within the borders of the Academy is the Falco
 n Trail. Slowly developed over the years by cadets and residents as an
  exercise trail, the Academy has invested heavily in upgrading the tra
 il to become the heart pounding, exhilarating experience of the the no
 w award winning Falcon Trail.\n\nFor more information visit http://pik
 espeaksports.us/events/24-hours-of-colorado-springs
DTSTART:20100918T180000Z
DTEND:20100919T180000Z
CATEGORIES:"24 hour mountain bike race"
LOCATION:US Air Force Academy
WEBSITE:http://24hoursofcos.com/
URL:http://24hoursofcos.com/
CONTACT:
ORGANIZER:
ATTACH;FMTTYPE="image/jpeg":http://storage.ning.com/topology/rest/1.0/
 file/get/2842539590?profile=original
ATTENDEE;ROLE=REQ-PARTICIPANT;PARTSTAT=ACCEPTED;RSVP=TRUE;CN="Terry Mo
 ntgomery":http://pikespeaksports.us/profile/TerryMontgomery
ATTENDEE;ROLE=REQ-PARTICIPANT;PARTSTAT=ACCEPTED;RSVP=TRUE;CN="Brian Mc
 Carrie":http://pikespeaksports.us/profile/virtualbrian
END:VEVENT
END:VCALENDAR
