BEGIN:VCALENDAR
PRODID:NingEventWidget-v1
VERSION:2.0
METHOD:PUBLISH
BEGIN:VEVENT
UID:5021591:Event:825804
DTSTAMP:20260423T000730Z
SUMMARY:2019 Rocky Mountain State Games
DESCRIPTION:The Rocky Mountain State Games (RMSG) is Colorado's larges
 t multi-sport festival for athletes of all ages and athletic abilities
 , including those with physical disabilities or visual impairment. The
  2019 Rocky Mountain State Games will be held July 19-21 & 26-28*, pri
 marily in Colorado Springs.\n\nFor more information visit http://pikes
 peaksports.us/events/2019-rocky-mountain-state-games
DTSTART:20190719T060000Z
DTEND:20190729T055900Z
CATEGORIES:various, sports
LOCATION:Memorial Park
WEBSITE:http://www.RockyMountainStateGames.org
URL:http://www.RockyMountainStateGames.org
CONTACT:7196347333
ORGANIZER;CN="Sports Corp":http://pikespeaksports.us/profile/SportsCor
 p
ATTACH;FMTTYPE="image/jpeg":https://storage.ning.com/topology/rest/1.0
 /file/get/910649820?profile=original
ATTENDEE;ROLE=REQ-PARTICIPANT;PARTSTAT=ACCEPTED;RSVP=TRUE;CN="Sports C
 orp":http://pikespeaksports.us/profile/SportsCorp
END:VEVENT
END:VCALENDAR
