BEGIN:VCALENDAR
PRODID:NingEventWidget-v1
VERSION:2.0
METHOD:PUBLISH
BEGIN:VEVENT
UID:5021591:Event:156
DTSTAMP:20260424T152309Z
SUMMARY:2010 Winter Series 3
DESCRIPTION:5 and 10 mile trail run on Santa Fe Trail @ Baptist Road\n
 \nFor more information visit http://pikespeaksports.us/events/2010-win
 ter-series-3
DTSTART:20100213T170000Z
DTEND:20100213T190000Z
CATEGORIES:running, race
LOCATION:Santa Fe Trail @ Baptist Road
WEBSITE:http://pprrun.org/events/WinterSeries/main.htm
URL:http://pprrun.org/events/WinterSeries/main.htm
CONTACT:
ORGANIZER;CN="Brian McCarrie":http://pikespeaksports.us/profile/virtua
 lbrian
ATTACH;FMTTYPE="image/jpeg":
ATTENDEE;ROLE=REQ-PARTICIPANT;PARTSTAT=ACCEPTED;RSVP=TRUE;CN="Brian Mc
 Carrie":http://pikespeaksports.us/profile/virtualbrian
END:VEVENT
END:VCALENDAR
