BEGIN:VCALENDAR
PRODID:NingEventWidget-v1
VERSION:2.0
METHOD:PUBLISH
BEGIN:VEVENT
UID:5021591:Event:24095
DTSTAMP:20260423T135702Z
SUMMARY:2010 Pikes Peak Ascent
DESCRIPTION:The 2010 Pikes Peak Ascent is set to go at 7 a.m., Aug. 21
 . Some 1,800 runners will toe the line in Manitou Springs to begin a 1
 3.2-mile run to the summit of 14,115-foot Pikes Peak. This year's race
  promises to be one of the most competitive in recent memory. The Worl
 d Mountain Running Association has selected the Ascent as its World Lo
 ng Distance Challenge race this year. Some of the top mountain runners
  in the world have entered the race.\nSpectators can drive to Devil's 
 Playground on the Pikes Peak Highway (you'll have to pay the toll fee)
  and then catch a shuttle van to the summit to see the end of the race
 . Be there by 9 a.m. to see the top runners finish.\n\nFor more inform
 ation visit http://pikespeaksports.us/events/2010-pikes-peak-ascent
DTSTART:20100821T130000Z
DTEND:20100821T190000Z
CATEGORIES:trail, run
LOCATION:Manitou Springs, Barr Trail, Pikes Peak
WEBSITE:http://www.pikespeakmarathon.org/
URL:http://www.pikespeakmarathon.org/
CONTACT:
ORGANIZER;CN="Tim Bergsten":http://pikespeaksports.us/profile/TimBergs
 ten
ATTACH;FMTTYPE="image/jpeg":http://storage.ning.com/topology/rest/1.0/
 file/get/2842538210?profile=original
ATTENDEE;ROLE=REQ-PARTICIPANT;PARTSTAT=ACCEPTED;RSVP=TRUE;CN="Cori Cha
 pman":http://pikespeaksports.us/profile/Cori
ATTENDEE;ROLE=REQ-PARTICIPANT;PARTSTAT=ACCEPTED;RSVP=TRUE;CN="Steve Jo
 hnson":http://pikespeaksports.us/profile/SteveJohnson
ATTENDEE;ROLE=REQ-PARTICIPANT;PARTSTAT=ACCEPTED;RSVP=TRUE;CN="Tim Berg
 sten":http://pikespeaksports.us/profile/TimBergsten
END:VEVENT
END:VCALENDAR
